BEGIN:VCALENDAR
PRODID:brasil.gov.agenda
VERSION:1.0
BEGIN:VEVENT
DTSTART:20160828T030000Z
DTEND:20160828T030000Z
DCREATED:20160803T181738Z
UID:Compromisso-c23a0e5276fa449bb9597076baf8fbbc
SEQUENCE:0
LAST-MODIFIED:20210901T164719Z
SUMMARY:Encerramento Mês da Juventude
DESCRIPTION:Music From Paraíba + BNegão e os Seletores
LOCATION:Espaço Cultural: R. Abdias Gomes de Almeida\, 800 - Tambauzinho\, João Pessoa - PB\, 58042-900
PRIORITY:3
TRANSP:0
END:VEVENT
END:VCALENDAR
