BEGIN:VCALENDAR
PRODID:brasil.gov.agenda
VERSION:1.0
BEGIN:VEVENT
DTSTART:20160815T120000Z
DTEND:20160815T030000Z
DCREATED:20160812T050225Z
UID:Compromisso-e6c5ad27478940408c5327e45618467f
SEQUENCE:0
LAST-MODIFIED:20210901T164719Z
SUMMARY:Roda de Diálogos sobre PPJ's - Mês da Juventude
LOCATION:CEJ - João Pessoa
PRIORITY:3
TRANSP:0
END:VEVENT
END:VCALENDAR
