BEGIN:VCALENDAR
PRODID:brasil.gov.agenda
VERSION:1.0
BEGIN:VEVENT
DTSTART:20160815T120000Z
DTEND:20160815T030000Z
DCREATED:20160812T050113Z
UID:Compromisso-dbc2ee10710b4e828a3431a5a25a4cf3
SEQUENCE:0
LAST-MODIFIED:20210901T164719Z
SUMMARY:Roda de Diálogo: Gravidez na Adolescência - Mês da Juventude
LOCATION:EEEFM João Goulart - João Pessoa
PRIORITY:3
TRANSP:0
END:VEVENT
END:VCALENDAR
