BEGIN:VCALENDAR
PRODID:brasil.gov.agenda
VERSION:1.0
BEGIN:VEVENT
DTSTART:20160815T120000Z
DTEND:20160815T170000Z
DCREATED:20160812T045905Z
UID:Compromisso-093240b7ad7f4ebd86b366ddde2051af
SEQUENCE:0
LAST-MODIFIED:20210901T164719Z
SUMMARY:Atividades de Slackline - Mês da Juventude
LOCATION:EEEF Adélia de França - João Pessoa
PRIORITY:3
TRANSP:0
END:VEVENT
END:VCALENDAR
