BEGIN:VCALENDAR
PRODID:brasil.gov.agenda
VERSION:1.0
BEGIN:VEVENT
DTSTART:20160815T120000Z
DTEND:20160828T120000Z
DCREATED:20160812T050324Z
UID:Compromisso-af9a930a699f4744b80f85fd7e9b7c0d
SEQUENCE:0
LAST-MODIFIED:20210901T164719Z
SUMMARY:Atividades Culturais - Mês da Juventude
LOCATION:Escola Estadual Irineu Joffily - Esperança
PRIORITY:3
TRANSP:0
END:VEVENT
END:VCALENDAR
