BEGIN:VCALENDAR
PRODID:brasil.gov.agenda
VERSION:1.0
BEGIN:VEVENT
DTSTART:20160815T190000Z
DTEND:20160828T190000Z
DCREATED:20160812T050439Z
UID:Compromisso-e5d4ca3124e54163864b67da53375936
SEQUENCE:0
LAST-MODIFIED:20210901T164719Z
SUMMARY:Atividades Culturais - Mês da Juventude
LOCATION:Praça da Matriz - Esperança
PRIORITY:3
TRANSP:0
END:VEVENT
END:VCALENDAR
