BEGIN:VCALENDAR
PRODID:brasil.gov.agenda
VERSION:1.0
BEGIN:VEVENT
DTSTART:20160815T000000Z
DTEND:20160814T030000Z
DCREATED:20160812T045746Z
UID:Compromisso-ed1377231ca14bb3a5d10bae261210f5
SEQUENCE:0
LAST-MODIFIED:20210901T164718Z
SUMMARY:Música do Mundo - Spok frevo orquestra - Mês da Juventude
LOCATION:Teatro Paulo Pontes/Espaço Cultural - João Pessoa
PRIORITY:3
TRANSP:0
END:VEVENT
END:VCALENDAR
