BEGIN:VCALENDAR
PRODID:brasil.gov.agenda
VERSION:1.0
BEGIN:VEVENT
DTSTART:20160813T200000Z
DTEND:20160813T035000Z
DCREATED:20160812T045628Z
UID:Compromisso-03aadc5e3c2544a7a6ddb665f0a87944
SEQUENCE:0
LAST-MODIFIED:20210901T164718Z
SUMMARY:Interatos - Circo Cavaco e sua pulga adestrada - Mês da Juventude
LOCATION:Praça do Povo/Espaço Cultural - João Pessoa
PRIORITY:3
TRANSP:0
END:VEVENT
END:VCALENDAR
