BEGIN:VCALENDAR
PRODID:brasil.gov.agenda
VERSION:1.0
BEGIN:VEVENT
DTSTART:20160812T123000Z
DTEND:20160813T180000Z
DCREATED:20160812T043803Z
UID:Compromisso-5648fb254f644453bd82e5d997b77180
SEQUENCE:0
LAST-MODIFIED:20210901T164717Z
SUMMARY:Rodas de conversas sobre Sexualidade e Afetividade - Mês da Juventude
LOCATION:Escola Estadual Irineu Joffily - Esperança
PRIORITY:3
TRANSP:0
END:VEVENT
END:VCALENDAR
