BEGIN:VCALENDAR
PRODID:brasil.gov.agenda
VERSION:1.0
BEGIN:VEVENT
DTSTART:20160812T120000Z
DTEND:20160828T120000Z
DCREATED:20160812T044047Z
UID:Compromisso-c157225560614496a3c6be51718a9a3e
SEQUENCE:0
LAST-MODIFIED:20210901T164718Z
SUMMARY:Reunião com jovens inseridos no PBSM (Programa Brasil Sem Miséria) sobre Políticas públicas (DAP\, Estatuto da Juventude e Outros) - Mês da Juventude
LOCATION:Escolas: Chão do Marinho\, Pai Domingos e Capinote - Lagoa Seca
PRIORITY:3
TRANSP:0
END:VEVENT
END:VCALENDAR
