BEGIN:VCALENDAR
PRODID:brasil.gov.agenda
VERSION:1.0
BEGIN:VEVENT
DTSTART:20160812T120000Z
DTEND:20160812T030000Z
DCREATED:20160812T045035Z
UID:Compromisso-f8a1717851f6462a84b66264460ddec4
SEQUENCE:0
LAST-MODIFIED:20210901T164718Z
SUMMARY:Prática de campo sobre Agroecologia - Mês da Juventude
LOCATION:Escola Rural - São João do Tigre
PRIORITY:3
TRANSP:0
END:VEVENT
END:VCALENDAR
