BEGIN:VCALENDAR
PRODID:brasil.gov.agenda
VERSION:1.0
BEGIN:VEVENT
DTSTART:20160812T120000Z
DTEND:20160828T120000Z
DCREATED:20160812T045435Z
UID:Compromisso-8903cdebeec34245ae2bf79115a54c69
SEQUENCE:0
LAST-MODIFIED:20210901T164718Z
SUMMARY:Palestras nas escolas sobres DST's (Doenças Sexualmente Transmissíveis)  - Mês da Juventude
LOCATION:Escolas da Sede do Município - Princesa Isabel
PRIORITY:3
TRANSP:0
END:VEVENT
END:VCALENDAR
