BEGIN:VCALENDAR
PRODID:brasil.gov.agenda
VERSION:1.0
BEGIN:VEVENT
DTSTART:20160812T120000Z
DTEND:20160812T030000Z
DCREATED:20160812T044931Z
UID:Compromisso-544c249e0bf34357b39a2db84210b892
SEQUENCE:0
LAST-MODIFIED:20210901T164718Z
SUMMARY:Palestra sobre Agroecologia para Juventude - Mês da Juventude
LOCATION:Escola Rural - Camalaú
PRIORITY:3
TRANSP:0
END:VEVENT
END:VCALENDAR
