BEGIN:VCALENDAR
PRODID:brasil.gov.agenda
VERSION:1.0
BEGIN:VEVENT
DTSTART:20160812T120000Z
DTEND:20160828T120000Z
DCREATED:20160812T044828Z
UID:Compromisso-e6c9d5c0c8e4437383bdc116311ed23c
SEQUENCE:0
LAST-MODIFIED:20210901T164718Z
SUMMARY:Palestra com os alunos da Escola Campo no Assentamento Santa Catarina - Mês da Juventude
LOCATION:Assentamento Santa Catarina - Monteiro
PRIORITY:3
TRANSP:0
END:VEVENT
END:VCALENDAR
