BEGIN:VCALENDAR
PRODID:brasil.gov.agenda
VERSION:1.0
BEGIN:VEVENT
DTSTART:20160812T120000Z
DTEND:20160812T170000Z
DCREATED:20160803T181221Z
UID:Compromisso-88a63ec37a7745fa8cf4dca421c96e44
SEQUENCE:0
LAST-MODIFIED:20210901T164717Z
SUMMARY:Lançamento do Mês da Juventude 2016
LOCATION:Palácio da Redenção: Praça João Pessoa - S/n - Centro\, João Pessoa - PB\, 58013-140
PRIORITY:3
TRANSP:0
END:VEVENT
END:VCALENDAR
