BEGIN:VCALENDAR
PRODID:brasil.gov.agenda
VERSION:1.0
BEGIN:VEVENT
DTSTART:20160812T230000Z
DTEND:20160812T030000Z
DCREATED:20160812T043927Z
UID:Compromisso-548c8b5f67614beeae7d1b1dbaee28ac
SEQUENCE:0
LAST-MODIFIED:20210901T164718Z
SUMMARY:Interatos - Dança Boca de Forno - Mês da Juventude
LOCATION:Espaço Parahybólica/Espaço Cultural - João Pessoa
PRIORITY:3
TRANSP:0
END:VEVENT
END:VCALENDAR
