BEGIN:VCALENDAR
PRODID:brasil.gov.agenda
VERSION:1.0
BEGIN:VEVENT
DTSTART:20160811T120000Z
DTEND:20160811T050000Z
DCREATED:20160812T043637Z
UID:Compromisso-f5c84bcbeabb41498cbc615abb798115
SEQUENCE:0
LAST-MODIFIED:20210901T164717Z
SUMMARY:Atividades recreativas - Mês da Juventude
LOCATION:Funad - João Pessoa
PRIORITY:3
TRANSP:0
END:VEVENT
END:VCALENDAR
