BEGIN:VCALENDAR
PRODID:brasil.gov.agenda
VERSION:1.0
BEGIN:VEVENT
DTSTART:20160810T120000Z
DTEND:20160810T030000Z
DCREATED:20160812T043438Z
UID:Compromisso-72084ddf56844d9aab83b038528a765a
SEQUENCE:0
LAST-MODIFIED:20210901T164717Z
SUMMARY:Palestra sobre Êxodo Rural e Cidadania - Mês da Juventude
LOCATION:Escolas Rurais - Solânea
PRIORITY:3
TRANSP:0
END:VEVENT
END:VCALENDAR
