BEGIN:VCALENDAR
PRODID:brasil.gov.agenda
VERSION:1.0
BEGIN:VEVENT
DTSTART:20160808T120000Z
DTEND:20160808T030000Z
DCREATED:20160812T043032Z
UID:Compromisso-6273332a20924409964243d00f484cde
SEQUENCE:0
LAST-MODIFIED:20210901T164717Z
SUMMARY:Encontro Municipal de Juventude Rural - Mês da Juventude
LOCATION:Sede do Município - Cubatí
PRIORITY:3
TRANSP:0
END:VEVENT
END:VCALENDAR
