BEGIN:VCALENDAR
PRODID:brasil.gov.agenda
VERSION:1.0
BEGIN:VEVENT
DTSTART:20160804T120000Z
DTEND:20160804T030000Z
DCREATED:20160812T042915Z
UID:Compromisso-e820e5f3dd264ff6b460941f31fffacc
SEQUENCE:0
LAST-MODIFIED:20210901T164717Z
SUMMARY:Juventude e Cidadania - Mês da Juventude
LOCATION:Escolas Rurais e Urbanas - Lastro - PB
PRIORITY:3
TRANSP:0
END:VEVENT
END:VCALENDAR
